BEGIN:VCALENDAR
VERSION:2.0
PRODID:-//J4Leaders - ECPv6.1.3//NONSGML v1.0//EN
CALSCALE:GREGORIAN
METHOD:PUBLISH
X-ORIGINAL-URL:https://j4leaders.org
X-WR-CALDESC:Events for J4Leaders
REFRESH-INTERVAL;VALUE=DURATION:PT1H
X-Robots-Tag:noindex
X-PUBLISHED-TTL:PT1H
BEGIN:VTIMEZONE
TZID:UTC
BEGIN:STANDARD
TZOFFSETFROM:+0000
TZOFFSETTO:+0000
TZNAME:UTC
DTSTART:20240101T000000
END:STANDARD
END:VTIMEZONE
BEGIN:VEVENT
DTSTART;TZID=UTC:20240221T180000
DTEND;TZID=UTC:20240221T193000
DTSTAMP:20260422T093857
CREATED:20240119T203015Z
LAST-MODIFIED:20240123T232615Z
UID:690-1708538400-1708543800@j4leaders.org
SUMMARY:Everything's Gonna Be Alright - J4 Anniversary Panel
DESCRIPTION:Join us as Lisa Schultz\, Leigh Ann Horton\, Judy Hulsey and Laurie Armendariz share the journey of how J4 was started\, the vision they had for it\, and why the integration of work/faith matters. They will also share the new theme and exciting plans for 2024! See registration link in the event details.  The panel will be moderated by Amanda Dukes.
URL:https://j4leaders.org/index.php/event/everythings-gonna-be-alright-j4-anniversary-panel/
LOCATION:Country Club of Orlando\, 1601 Country Club Drive\, Orlando\, FL\, 32804\, United States
ATTACH;FMTTYPE=image/jpeg:https://j4leaders.org/wp-content/uploads/2024/01/J4-Leaders-20th-Anniversary-Panel-1.jpg
END:VEVENT
END:VCALENDAR