BEGIN:VCALENDAR
VERSION:2.0
PRODID:-//J4Leaders - ECPv6.1.3//NONSGML v1.0//EN
CALSCALE:GREGORIAN
METHOD:PUBLISH
X-WR-CALNAME:J4Leaders
X-ORIGINAL-URL:https://j4leaders.org
X-WR-CALDESC:Events for J4Leaders
REFRESH-INTERVAL;VALUE=DURATION:PT1H
X-Robots-Tag:noindex
X-PUBLISHED-TTL:PT1H
BEGIN:VTIMEZONE
TZID:UTC
BEGIN:STANDARD
TZOFFSETFROM:+0000
TZOFFSETTO:+0000
TZNAME:UTC
DTSTART:20200101T000000
END:STANDARD
END:VTIMEZONE
BEGIN:VEVENT
DTSTART;TZID=UTC:20200225T060000
DTEND;TZID=UTC:20200225T200000
DTSTAMP:20260421T203800
CREATED:20230615T185817Z
LAST-MODIFIED:20230615T185817Z
UID:639-1582610400-1582660800@j4leaders.org
SUMMARY:February Forum: "Influence"
DESCRIPTION:
URL:https://j4leaders.org/index.php/event/february-forum-influence/
LOCATION:The Balcony Orlando\, 89 S Orange Ave\, Ste 1120\, Orlando\, FL\, 32801\, United States
ATTACH;FMTTYPE=image/png:https://j4leaders.org/wp-content/uploads/2023/06/Mesa-de-trabajo-20.png
END:VEVENT
END:VCALENDAR